View In:
ArcGIS JavaScript
ArcGIS Online Map Viewer
ArcGIS Earth
Service Description: geneve/Carte_IGN50K_1935
Name: geneve/Carte_IGN50K_1935
Description:
Single Fused Map Cache: false
Extent:
XMin: 2463224.836199999
YMin: 1077464.913849033
XMax: 2532739.2131817215
YMax: 1147111.748
Spatial Reference: 2056
(2056)
LatestVCSWkid(0)
Initial Extent:
XMin: 2463224.836199999
YMin: 1077464.913849033
XMax: 2532739.2131817215
YMax: 1147111.748
Spatial Reference: 2056
(2056)
LatestVCSWkid(0)
Full Extent:
XMin: 2463224.836199999
YMin: 1077464.913849033
XMax: 2532739.2131817215
YMax: 1147111.748
Spatial Reference: 2056
(2056)
LatestVCSWkid(0)
Pixel Size X: 4.272811911102259
Pixel Size Y: 4.272811911102267
Band Count: 3
Pixel Type: U8
RasterFunction Infos: {"rasterFunctionInfos": [{
"name": "None",
"description": "",
"help": ""
}]}
Mensuration Capabilities: Basic
Has Histograms: true
Has Colormap: false
Has Multi Dimensions : false
Rendering Rule:
Min Scale: 0
Max Scale: 0
Copyright Text:
Service Data Type: esriImageServiceDataTypeRGB
Min Values: 10, 19, 0
Max Values: 255, 255, 255
Mean Values: 174.56870564296764, 159.94471504205322, 144.32647724458982
Standard Deviation Values: 45.575064998377414, 45.14951555015712, 45.450836920906156
Object ID Field:
Fields:
None
Default Mosaic Method: Center
Allowed Mosaic Methods:
SortField:
SortValue: null
Mosaic Operator: First
Default Compression Quality: 75
Default Resampling Method: Bilinear
Max Record Count: null
Max Image Height: 4100
Max Image Width: 15000
Max Download Image Count: null
Max Mosaic Image Count: null
Allow Raster Function: true
Allow Copy: true
Allow Analysis: true
Allow Compute TiePoints: false
Supports Statistics: false
Supports Advanced Queries: false
Use StandardizedQueries: true
Raster Type Infos:
Name: Raster Dataset
Description: Supports all ArcGIS Raster Datasets
Help:
Has Raster Attribute Table: false
Edit Fields Info: null
Ownership Based AccessControl For Rasters: null
Child Resources:
Info
Histograms
Statistics
Key Properties
Legend
Raster Function Infos
Supported Operations:
Export Image
Identify
Measure
Compute Histograms
Compute Statistics Histograms
Get Samples
Compute Class Statistics
Query Boundary
Compute Pixel Location
Compute Angles
Validate
Project