{
 "currentVersion": 11.1,
 "serviceDescription": "geneve/Carte_IGN50K_1935",
 "name": "geneve/Carte_IGN50K_1935",
 "description": "",
 "extent": {
  "xmin": 2463224.836199999,
  "ymin": 1077464.913849033,
  "xmax": 2532739.2131817215,
  "ymax": 1147111.748,
  "spatialReference": {
   "wkid": 2056,
   "latestWkid": 2056
  }
 },
 "initialExtent": {
  "xmin": 2463224.836199999,
  "ymin": 1077464.913849033,
  "xmax": 2532739.2131817215,
  "ymax": 1147111.748,
  "spatialReference": {
   "wkid": 2056,
   "latestWkid": 2056
  }
 },
 "fullExtent": {
  "xmin": 2463224.836199999,
  "ymin": 1077464.913849033,
  "xmax": 2532739.2131817215,
  "ymax": 1147111.748,
  "spatialReference": {
   "wkid": 2056,
   "latestWkid": 2056
  }
 },
 "sortableFields": "",
 "bandCount": 3,
 "pixelType": "U8",
 "minValues": [
  10,
  19,
  0
 ],
 "maxValues": [
  255,
  255,
  255
 ],
 "meanValues": [
  174.56870564296764,
  159.94471504205322,
  144.32647724458982
 ],
 "stdvValues": [
  45.575064998377414,
  45.14951555015712,
  45.450836920906156
 ],
 "hasMultidimensions": false,
 "pixelSizeX": 4.272811911102259,
 "pixelSizeY": 4.272811911102267,
 "datasetFormat": "FGDBR",
 "uncompressedSize": 795554100,
 "blockWidth": 128,
 "blockHeight": 128,
 "compressionType": "LZ77",
 "bandNames": [
  "Band_1",
  "Band_2",
  "Band_3"
 ],
 "allowCopy": true,
 "allowAnalysis": true,
 "itemAccess": false,
 "minPixelSize": 0,
 "maxPixelSize": 0,
 "copyrightText": "",
 "serviceDataType": "esriImageServiceDataTypeRGB",
 "serviceSourceType": "esriImageServiceSourceTypeDataset",
 "objectIdField": "",
 "fields": [],
 "capabilities": "Image,Metadata,Mensuration",
 "defaultMosaicMethod": "Center",
 "allowedMosaicMethods": "",
 "sortField": "",
 "sortValue": null,
 "sortAscending": true,
 "mosaicOperator": "First",
 "defaultCompressionQuality": 75,
 "defaultResamplingMethod": "Bilinear",
 "maxImageHeight": 4100,
 "maxImageWidth": 15000,
 "allowRasterFunction": true,
 "rasterFunctionInfos": [
  {
   "name": "None",
   "description": "",
   "help": ""
  }
 ],
 "rasterTypeInfos": [
  {
   "name": "Raster Dataset",
   "description": "Supports all ArcGIS Raster Datasets",
   "help": ""
  }
 ],
 "mensurationCapabilities": "Basic",
 "hasHistograms": true,
 "hasColormap": false,
 "hasRasterAttributeTable": false,
 "minScale": 0,
 "maxScale": 0,
 "exportTilesAllowed": false,
 "supportsStatistics": false,
 "supportsAdvancedQueries": false,
 "editFieldsInfo": null,
 "ownershipBasedAccessControlForRasters": null,
 "allowComputeTiePoints": false,
 "useStandardizedQueries": true,
 "advancedQueryCapabilities": {
  "useStandardizedQueries": true,
  "supportsStatistics": false,
  "supportsOrderBy": false,
  "supportsDistinct": false,
  "supportsPagination": false
 },
 "spatialReference": {
  "wkid": 2056,
  "latestWkid": 2056
 }
}
