View In:
ArcGIS JavaScript
ArcGIS Online Map Viewer
ArcGIS Earth
Service Description: Acquisition Lidar
Name: geneve/MNA_SURFACE_AGGLO_2014
Description: Acquisition Lidar
Single Fused Map Cache: false
Extent:
XMin: 2463049.5889282227
YMin: 1086111.0001220703
XMax: 2532057.0889282227
YMax: 1156000.0001220703
Spatial Reference: 2056
(2056)
LatestVCSWkid(0)
Initial Extent:
XMin: 2463049.5889282227
YMin: 1086111.0001220703
XMax: 2532057.0889282227
YMax: 1156000.0001220703
Spatial Reference: 2056
(2056)
LatestVCSWkid(0)
Full Extent:
XMin: 2463049.5889282227
YMin: 1086111.0001220703
XMax: 2532057.0889282227
YMax: 1156000.0001220703
Spatial Reference: 2056
(2056)
LatestVCSWkid(0)
Pixel Size X: 0.5
Pixel Size Y: 0.5
Band Count: 1
Pixel Type: F32
RasterFunction Infos: {"rasterFunctionInfos": [{
"name": "None",
"description": "",
"help": ""
}]}
Mensuration Capabilities: Basic
Has Histograms: true
Has Colormap: false
Has Multi Dimensions : false
Rendering Rule:
Min Scale: 0
Max Scale: 0
Copyright Text: SITG
Service Data Type: esriImageServiceDataTypeGeneric
Min Values: 258.32000732421875
Max Values: 2437.760009765625
Mean Values: 729.3017766281647
Standard Deviation Values: 339.37529816569395
Object ID Field:
Fields:
None
Default Mosaic Method: Center
Allowed Mosaic Methods:
SortField:
SortValue: null
Mosaic Operator: First
Default Compression Quality: 10000
Default Resampling Method: Bilinear
Max Record Count: null
Max Image Height: 30000
Max Image Width: 30000
Max Download Image Count: null
Max Mosaic Image Count: null
Allow Raster Function: true
Allow Copy: true
Allow Analysis: true
Allow Compute TiePoints: false
Supports Statistics: false
Supports Advanced Queries: false
Use StandardizedQueries: true
Raster Type Infos:
Name: Raster Dataset
Description: Supports all ArcGIS Raster Datasets
Help:
Has Raster Attribute Table: false
Edit Fields Info: null
Ownership Based AccessControl For Rasters: null
Child Resources:
Info
Histograms
Statistics
Key Properties
Legend
Raster Function Infos
Supported Operations:
Export Image
Identify
Measure
Compute Histograms
Compute Statistics Histograms
Get Samples
Compute Class Statistics
Query Boundary
Compute Pixel Location
Compute Angles
Validate
Project